Package: CAGEWorkflow Version: 1.14.0 Command: /Library/Frameworks/R.framework/Resources/bin/R CMD build --keep-empty-dirs --no-resave-data CAGEWorkflow StartedAt: 2023-04-11 11:02:43 -0400 (Tue, 11 Apr 2023) EndedAt: 2023-04-11 11:10:02 -0400 (Tue, 11 Apr 2023) EllapsedTime: 439.1 seconds RetCode: 0 Status: OK PackageFile: CAGEWorkflow_1.14.0.tar.gz PackageFileSize: 734.8 KiB