Package: recountWorkflow Version: 1.22.0 Command: /Library/Frameworks/R.framework/Resources/bin/R CMD build --keep-empty-dirs --no-resave-data recountWorkflow StartedAt: 2023-04-11 11:02:55 -0400 (Tue, 11 Apr 2023) EndedAt: 2023-04-11 11:24:02 -0400 (Tue, 11 Apr 2023) EllapsedTime: 1267.1 seconds RetCode: 0 Status: OK PackageFile: recountWorkflow_1.22.0.tar.gz PackageFileSize: 2.096 MiB