Package: recountWorkflow Version: 1.22.0 Command: /Library/Frameworks/R.framework/Resources/bin/R CMD INSTALL recountWorkflow StartedAt: 2023-04-11 11:00:25 -0400 (Tue, 11 Apr 2023) EndedAt: 2023-04-11 11:01:10 -0400 (Tue, 11 Apr 2023) EllapsedTime: 44.9 seconds RetCode: 0 Status: OK