Package: recountWorkflow Version: 1.22.0 Command: chmod a+r recountWorkflow -R && F:\biocbuild\bbs-3.16-bioc\R\bin\R.exe CMD build --keep-empty-dirs --no-resave-data recountWorkflow StartedAt: 2023-04-11 11:06:17 -0400 (Tue, 11 Apr 2023) EndedAt: 2023-04-11 11:19:22 -0400 (Tue, 11 Apr 2023) EllapsedTime: 785.1 seconds RetCode: 0 Status: OK PackageFile: recountWorkflow_1.22.0.tar.gz PackageFileSize: 926.4 KiB