Package: recountWorkflow Version: 1.22.0 Command: F:\biocbuild\bbs-3.16-bioc\R\bin\R.exe CMD INSTALL recountWorkflow StartedAt: 2023-04-11 11:01:25 -0400 (Tue, 11 Apr 2023) EndedAt: 2023-04-11 11:02:23 -0400 (Tue, 11 Apr 2023) EllapsedTime: 58.8 seconds RetCode: 0 Status: OK