Package: variants Version: 1.22.0 Command: chmod a+r variants -R && F:\biocbuild\bbs-3.16-bioc\R\bin\R.exe CMD build --keep-empty-dirs --no-resave-data variants StartedAt: 2023-04-11 11:10:31 -0400 (Tue, 11 Apr 2023) EndedAt: 2023-04-11 11:11:35 -0400 (Tue, 11 Apr 2023) EllapsedTime: 64.5 seconds RetCode: 0 Status: OK PackageFile: variants_1.22.0.tar.gz PackageFileSize: 4.84 MiB