Package: variants Version: 1.22.0 Command: F:\biocbuild\bbs-3.16-bioc\R\bin\R.exe CMD INSTALL variants StartedAt: 2023-04-11 11:00:49 -0400 (Tue, 11 Apr 2023) EndedAt: 2023-04-11 11:01:18 -0400 (Tue, 11 Apr 2023) EllapsedTime: 29.5 seconds RetCode: 0 Status: OK