Package: ABarray Version: 1.68.0 Command: /Library/Frameworks/R.framework/Resources/bin/R CMD build --keep-empty-dirs --no-resave-data ABarray StartedAt: 2023-10-15 16:38:35 -0400 (Sun, 15 Oct 2023) EndedAt: 2023-10-15 16:39:14 -0400 (Sun, 15 Oct 2023) EllapsedTime: 39.3 seconds RetCode: 0 Status: OK PackageFile: ABarray_1.68.0.tar.gz PackageFileSize: 686.3 KiB