Package: ABarray Version: 1.68.0 Command: /Library/Frameworks/R.framework/Resources/bin/R CMD check --install=check:ABarray.install-out.txt --library=/Library/Frameworks/R.framework/Resources/library --no-vignettes --timings ABarray_1.68.0.tar.gz StartedAt: 2023-10-15 22:21:16 -0400 (Sun, 15 Oct 2023) EndedAt: 2023-10-15 22:24:00 -0400 (Sun, 15 Oct 2023) EllapsedTime: 163.9 seconds RetCode: 0 Status: OK CheckDir: ABarray.Rcheck Warnings: 0