Package: ABarray Version: 1.68.0 Command: chmod a+r ABarray -R && F:\biocbuild\bbs-3.17-bioc\R\bin\R.exe CMD build --keep-empty-dirs --no-resave-data ABarray StartedAt: 2023-10-15 17:09:44 -0400 (Sun, 15 Oct 2023) EndedAt: 2023-10-15 17:10:06 -0400 (Sun, 15 Oct 2023) EllapsedTime: 22.0 seconds RetCode: 0 Status: OK PackageFile: ABarray_1.68.0.tar.gz PackageFileSize: 450 KiB