Package: ABarray Version: 1.68.0 Command: F:\biocbuild\bbs-3.17-bioc\R\bin\R.exe CMD check --no-multiarch --install=check:ABarray.install-out.txt --library=F:\biocbuild\bbs-3.17-bioc\R\library --no-vignettes --timings ABarray_1.68.0.tar.gz StartedAt: 2023-10-15 23:16:09 -0400 (Sun, 15 Oct 2023) EndedAt: 2023-10-15 23:18:01 -0400 (Sun, 15 Oct 2023) EllapsedTime: 112.6 seconds RetCode: 0 Status: OK CheckDir: ABarray.Rcheck Warnings: 0