Package: ACE Version: 1.18.0 Command: /home/biocbuild/bbs-3.17-bioc/R/bin/R CMD check --install=check:ACE.install-out.txt --library=/home/biocbuild/bbs-3.17-bioc/R/site-library --timings ACE_1.18.0.tar.gz StartedAt: 2023-10-15 19:05:11 -0400 (Sun, 15 Oct 2023) EndedAt: 2023-10-15 19:08:05 -0400 (Sun, 15 Oct 2023) EllapsedTime: 174.1 seconds RetCode: 0 Status: OK CheckDir: ACE.Rcheck Warnings: 0