Package: ALDEx2 Version: 1.32.0 Command: /home/biocbuild/bbs-3.17-bioc/R/bin/R CMD check --install=check:ALDEx2.install-out.txt --library=/home/biocbuild/bbs-3.17-bioc/R/site-library --timings ALDEx2_1.32.0.tar.gz StartedAt: 2023-10-15 19:08:19 -0400 (Sun, 15 Oct 2023) EndedAt: 2023-10-15 19:12:02 -0400 (Sun, 15 Oct 2023) EllapsedTime: 222.8 seconds RetCode: 0 Status: WARNINGS CheckDir: ALDEx2.Rcheck Warnings: 1