Package: ALDEx2 Version: 1.32.0 Command: rm -rf ALDEx2.buildbin-libdir && mkdir ALDEx2.buildbin-libdir && F:\biocbuild\bbs-3.17-bioc\R\bin\R.exe CMD INSTALL --build --library=ALDEx2.buildbin-libdir ALDEx2_1.32.0.tar.gz StartedAt: 2023-10-16 08:24:01 -0400 (Mon, 16 Oct 2023) EndedAt: 2023-10-16 08:24:33 -0400 (Mon, 16 Oct 2023) EllapsedTime: 31.7 seconds RetCode: 0 Status: OK PackageFile: ALDEx2_1.32.0.zip PackageFileSize: 710.2 KiB