Package: ALDEx2 Version: 1.32.0 Command: chmod a+r ALDEx2 -R && F:\biocbuild\bbs-3.17-bioc\R\bin\R.exe CMD build --keep-empty-dirs --no-resave-data ALDEx2 StartedAt: 2023-10-15 17:12:39 -0400 (Sun, 15 Oct 2023) EndedAt: 2023-10-15 17:13:43 -0400 (Sun, 15 Oct 2023) EllapsedTime: 63.9 seconds RetCode: 0 Status: OK PackageFile: ALDEx2_1.32.0.tar.gz PackageFileSize: 603.3 KiB