Package: ALDEx2 Version: 1.32.0 Command: F:\biocbuild\bbs-3.17-bioc\R\bin\R.exe CMD INSTALL ALDEx2 StartedAt: 2023-10-15 16:44:31 -0400 (Sun, 15 Oct 2023) EndedAt: 2023-10-15 16:45:00 -0400 (Sun, 15 Oct 2023) EllapsedTime: 29.1 seconds RetCode: 0 Status: OK