Package: AMARETTO Version: 1.16.0 Command: /home/biocbuild/bbs-3.17-bioc/R/bin/R CMD build --keep-empty-dirs --no-resave-data AMARETTO StartedAt: 2023-10-15 15:54:37 -0400 (Sun, 15 Oct 2023) EndedAt: 2023-10-15 15:55:28 -0400 (Sun, 15 Oct 2023) EllapsedTime: 51.9 seconds RetCode: 0 Status: OK PackageFile: AMARETTO_1.16.0.tar.gz PackageFileSize: 3.233 MiB