Package: APAlyzer Version: 1.14.0 Command: /Library/Frameworks/R.framework/Resources/bin/R CMD build --keep-empty-dirs --no-resave-data APAlyzer StartedAt: 2023-10-15 16:43:30 -0400 (Sun, 15 Oct 2023) EndedAt: 2023-10-15 16:47:11 -0400 (Sun, 15 Oct 2023) EllapsedTime: 221.1 seconds RetCode: 0 Status: OK PackageFile: APAlyzer_1.14.0.tar.gz PackageFileSize: 3.907 MiB