Package: APAlyzer Version: 1.14.0 Command: /Library/Frameworks/R.framework/Resources/bin/R CMD check --install=check:APAlyzer.install-out.txt --library=/Library/Frameworks/R.framework/Resources/library --no-vignettes --timings APAlyzer_1.14.0.tar.gz StartedAt: 2023-10-15 22:33:39 -0400 (Sun, 15 Oct 2023) EndedAt: 2023-10-15 22:49:57 -0400 (Sun, 15 Oct 2023) EllapsedTime: 977.4 seconds RetCode: 0 Status: WARNINGS CheckDir: APAlyzer.Rcheck Warnings: 1