Package: ASSIGN Version: 1.36.0 Command: rm -rf ASSIGN.buildbin-libdir && mkdir ASSIGN.buildbin-libdir && /Users/biocbuild/BBS/utils/build-universal.sh ASSIGN_1.36.0.tar.gz /Library/Frameworks/R.framework/Resources/bin/R ASSIGN.buildbin-libdir StartedAt: 2023-10-16 08:58:40 -0400 (Mon, 16 Oct 2023) EndedAt: 2023-10-16 08:58:51 -0400 (Mon, 16 Oct 2023) EllapsedTime: 11.5 seconds RetCode: 0 Status: OK PackageFile: ASSIGN_1.36.0.tgz PackageFileSize: 1.672 MiB