Package: ASSIGN Version: 1.36.0 Command: /Library/Frameworks/R.framework/Resources/bin/R CMD INSTALL ASSIGN StartedAt: 2023-10-15 16:13:04 -0400 (Sun, 15 Oct 2023) EndedAt: 2023-10-15 16:13:15 -0400 (Sun, 15 Oct 2023) EllapsedTime: 10.3 seconds RetCode: 0 Status: OK