git_url: https://git.bioconductor.org/packages/AlphaBeta git_branch: RELEASE_3_17 git_last_commit: 1e71032 git_last_commit_date: 2023-04-25 11:11:40 -0400 (Tue, 25 Apr 2023) Package: AlphaBeta Version: 1.14.0 Maintainer: Yadollah Shahryary Dizaji MaintainerEmail: shahryary at gmail.com