Package: AlphaBeta Version: 1.14.0 Command: F:\biocbuild\bbs-3.17-bioc\R\bin\R.exe CMD check --no-multiarch --install=check:AlphaBeta.install-out.txt --library=F:\biocbuild\bbs-3.17-bioc\R\library --no-vignettes --timings AlphaBeta_1.14.0.tar.gz StartedAt: 2023-10-15 23:22:42 -0400 (Sun, 15 Oct 2023) EndedAt: 2023-10-15 23:29:34 -0400 (Sun, 15 Oct 2023) EllapsedTime: 411.8 seconds RetCode: 0 Status: OK CheckDir: AlphaBeta.Rcheck Warnings: 0