Package: AlphaBeta Version: 1.14.0 Command: F:\biocbuild\bbs-3.17-bioc\R\bin\R.exe CMD INSTALL AlphaBeta StartedAt: 2023-10-15 16:33:36 -0400 (Sun, 15 Oct 2023) EndedAt: 2023-10-15 16:33:56 -0400 (Sun, 15 Oct 2023) EllapsedTime: 19.6 seconds RetCode: 0 Status: OK