Package: AnVIL Version: 1.12.4 Command: /home/biocbuild/bbs-3.17-bioc/R/bin/R CMD build --keep-empty-dirs --no-resave-data AnVIL StartedAt: 2023-10-15 15:55:33 -0400 (Sun, 15 Oct 2023) EndedAt: 2023-10-15 15:55:43 -0400 (Sun, 15 Oct 2023) EllapsedTime: 10.3 seconds RetCode: 0 Status: OK PackageFile: AnVIL_1.12.4.tar.gz PackageFileSize: 1.088 MiB