Package: AnVILPublish Version: 1.10.0 Command: chmod a+r AnVILPublish -R && F:\biocbuild\bbs-3.17-bioc\R\bin\R.exe CMD build --keep-empty-dirs --no-resave-data AnVILPublish StartedAt: 2023-10-15 17:16:20 -0400 (Sun, 15 Oct 2023) EndedAt: 2023-10-15 17:16:33 -0400 (Sun, 15 Oct 2023) EllapsedTime: 13.0 seconds RetCode: 0 Status: OK PackageFile: AnVILPublish_1.10.0.tar.gz PackageFileSize: 236.9 KiB