Package: BANDITS Version: 1.16.1 Command: /Library/Frameworks/R.framework/Resources/bin/R CMD build --keep-empty-dirs --no-resave-data BANDITS StartedAt: 2023-10-15 16:49:13 -0400 (Sun, 15 Oct 2023) EndedAt: 2023-10-15 16:56:00 -0400 (Sun, 15 Oct 2023) EllapsedTime: 407.1 seconds RetCode: 0 Status: OK PackageFile: BANDITS_1.16.1.tar.gz PackageFileSize: 1.215 MiB