Package: BANDITS Version: 1.16.1 Command: chmod a+r BANDITS -R && F:\biocbuild\bbs-3.17-bioc\R\bin\R.exe CMD build --keep-empty-dirs --no-resave-data BANDITS StartedAt: 2023-10-15 17:27:29 -0400 (Sun, 15 Oct 2023) EndedAt: 2023-10-15 17:30:10 -0400 (Sun, 15 Oct 2023) EllapsedTime: 161.3 seconds RetCode: 0 Status: OK PackageFile: BANDITS_1.16.1.tar.gz PackageFileSize: 1.056 MiB