Package: BDMMAcorrect Version: 1.18.1 Command: /home/biocbuild/bbs-3.17-bioc/R/bin/R CMD check --install=check:BDMMAcorrect.install-out.txt --library=/home/biocbuild/bbs-3.17-bioc/R/site-library --timings BDMMAcorrect_1.18.1.tar.gz StartedAt: 2023-10-15 19:26:29 -0400 (Sun, 15 Oct 2023) EndedAt: 2023-10-15 19:32:17 -0400 (Sun, 15 Oct 2023) EllapsedTime: 347.7 seconds RetCode: 1 Status: ERROR CheckDir: BDMMAcorrect.Rcheck Warnings: NA