Package: BOBaFIT Version: 1.4.0 Command: rm -rf BOBaFIT.buildbin-libdir && mkdir BOBaFIT.buildbin-libdir && /Users/biocbuild/BBS/utils/build-universal.sh BOBaFIT_1.4.0.tar.gz /Library/Frameworks/R.framework/Resources/bin/R BOBaFIT.buildbin-libdir StartedAt: 2023-10-16 09:03:30 -0400 (Mon, 16 Oct 2023) EndedAt: 2023-10-16 09:06:03 -0400 (Mon, 16 Oct 2023) EllapsedTime: 152.1 seconds RetCode: 0 Status: OK PackageFile: BOBaFIT_1.4.0.tgz PackageFileSize: 2.446 MiB