Package: BPRMeth Version: 1.26.1 Command: /Library/Frameworks/R.framework/Resources/bin/R CMD check --install=check:BPRMeth.install-out.txt --library=/Library/Frameworks/R.framework/Resources/library --no-vignettes --timings BPRMeth_1.26.1.tar.gz StartedAt: 2023-10-15 23:14:54 -0400 (Sun, 15 Oct 2023) EndedAt: 2023-10-15 23:21:21 -0400 (Sun, 15 Oct 2023) EllapsedTime: 386.4 seconds RetCode: 0 Status: OK CheckDir: BPRMeth.Rcheck Warnings: 0