Package: BPRMeth Version: 1.26.1 Command: /home/biocbuild/bbs-3.17-bioc/R/bin/R CMD build --keep-empty-dirs --no-resave-data BPRMeth StartedAt: 2023-10-15 16:08:42 -0400 (Sun, 15 Oct 2023) EndedAt: 2023-10-15 16:10:11 -0400 (Sun, 15 Oct 2023) EllapsedTime: 89.0 seconds RetCode: 0 Status: OK PackageFile: BPRMeth_1.26.1.tar.gz PackageFileSize: 3.093 MiB