Package: BRGenomics Version: 1.12.0 Command: rm -rf BRGenomics.buildbin-libdir && mkdir BRGenomics.buildbin-libdir && F:\biocbuild\bbs-3.17-bioc\R\bin\R.exe CMD INSTALL --build --library=BRGenomics.buildbin-libdir BRGenomics_1.12.0.tar.gz StartedAt: 2023-10-16 08:30:48 -0400 (Mon, 16 Oct 2023) EndedAt: 2023-10-16 08:31:28 -0400 (Mon, 16 Oct 2023) EllapsedTime: 40.8 seconds RetCode: 0 Status: OK PackageFile: BRGenomics_1.12.0.zip PackageFileSize: 3.784 MiB