Package: BSgenome Version: 1.68.0 Command: /home/biocbuild/bbs-3.17-bioc/R/bin/R CMD check --install=check:BSgenome.install-out.txt --library=/home/biocbuild/bbs-3.17-bioc/R/site-library --timings BSgenome_1.68.0.tar.gz StartedAt: 2023-10-15 19:45:07 -0400 (Sun, 15 Oct 2023) EndedAt: 2023-10-15 19:52:48 -0400 (Sun, 15 Oct 2023) EllapsedTime: 461.0 seconds RetCode: 0 Status: WARNINGS CheckDir: BSgenome.Rcheck Warnings: 3