Package: BSgenome Version: 1.68.0 Command: /home/biocbuild/bbs-3.17-bioc/R/bin/R CMD INSTALL BSgenome StartedAt: 2023-10-15 15:20:14 -0400 (Sun, 15 Oct 2023) EndedAt: 2023-10-15 15:20:54 -0400 (Sun, 15 Oct 2023) EllapsedTime: 39.3 seconds RetCode: 0 Status: OK