Package: BSgenome Version: 1.68.0 Command: F:\biocbuild\bbs-3.17-bioc\R\bin\R.exe CMD INSTALL BSgenome StartedAt: 2023-10-15 16:11:14 -0400 (Sun, 15 Oct 2023) EndedAt: 2023-10-15 16:12:17 -0400 (Sun, 15 Oct 2023) EllapsedTime: 62.8 seconds RetCode: 0 Status: OK