Package: BSgenomeForge Version: 1.0.1 Command: rm -rf BSgenomeForge.buildbin-libdir && mkdir BSgenomeForge.buildbin-libdir && F:\biocbuild\bbs-3.17-bioc\R\bin\R.exe CMD INSTALL --build --library=BSgenomeForge.buildbin-libdir BSgenomeForge_1.0.1.tar.gz StartedAt: 2023-10-16 08:30:57 -0400 (Mon, 16 Oct 2023) EndedAt: 2023-10-16 08:31:31 -0400 (Mon, 16 Oct 2023) EllapsedTime: 34.7 seconds RetCode: 0 Status: OK PackageFile: BSgenomeForge_1.0.1.zip PackageFileSize: 311.1 KiB