Package: BSgenomeForge Version: 1.0.1 Command: chmod a+r BSgenomeForge -R && F:\biocbuild\bbs-3.17-bioc\R\bin\R.exe CMD build --keep-empty-dirs --no-resave-data BSgenomeForge StartedAt: 2023-10-15 17:50:38 -0400 (Sun, 15 Oct 2023) EndedAt: 2023-10-15 17:51:24 -0400 (Sun, 15 Oct 2023) EllapsedTime: 46.7 seconds RetCode: 0 Status: OK PackageFile: BSgenomeForge_1.0.1.tar.gz PackageFileSize: 241.5 KiB