Package: BUSseq Version: 1.6.1 Command: /Library/Frameworks/R.framework/Resources/bin/R CMD INSTALL BUSseq StartedAt: 2023-10-15 15:16:44 -0400 (Sun, 15 Oct 2023) EndedAt: 2023-10-15 15:18:03 -0400 (Sun, 15 Oct 2023) EllapsedTime: 79.2 seconds RetCode: 0 Status: OK