Package: Basic4Cseq Version: 1.36.0 Command: rm -rf Basic4Cseq.buildbin-libdir && mkdir Basic4Cseq.buildbin-libdir && F:\biocbuild\bbs-3.17-bioc\R\bin\R.exe CMD INSTALL --build --library=Basic4Cseq.buildbin-libdir Basic4Cseq_1.36.0.tar.gz StartedAt: 2023-10-16 08:26:46 -0400 (Mon, 16 Oct 2023) EndedAt: 2023-10-16 08:27:31 -0400 (Mon, 16 Oct 2023) EllapsedTime: 45.8 seconds RetCode: 0 Status: OK PackageFile: Basic4Cseq_1.36.0.zip PackageFileSize: 776 KiB