Package: BasicSTARRseq Version: 1.28.0 Command: /Library/Frameworks/R.framework/Resources/bin/R CMD build --keep-empty-dirs --no-resave-data BasicSTARRseq StartedAt: 2023-10-15 16:50:38 -0400 (Sun, 15 Oct 2023) EndedAt: 2023-10-15 16:52:07 -0400 (Sun, 15 Oct 2023) EllapsedTime: 89.2 seconds RetCode: 0 Status: OK PackageFile: BasicSTARRseq_1.28.0.tar.gz PackageFileSize: 551.9 KiB