Package: BasicSTARRseq Version: 1.28.0 Command: /Library/Frameworks/R.framework/Resources/bin/R CMD check --install=check:BasicSTARRseq.install-out.txt --library=/Library/Frameworks/R.framework/Resources/library --no-vignettes --timings BasicSTARRseq_1.28.0.tar.gz StartedAt: 2023-10-15 22:47:27 -0400 (Sun, 15 Oct 2023) EndedAt: 2023-10-15 22:54:14 -0400 (Sun, 15 Oct 2023) EllapsedTime: 407.1 seconds RetCode: 0 Status: OK CheckDir: BasicSTARRseq.Rcheck Warnings: 0