Package: BasicSTARRseq Version: 1.28.0 Command: /Library/Frameworks/R.framework/Resources/bin/R CMD INSTALL BasicSTARRseq StartedAt: 2023-10-15 15:25:44 -0400 (Sun, 15 Oct 2023) EndedAt: 2023-10-15 15:27:08 -0400 (Sun, 15 Oct 2023) EllapsedTime: 83.7 seconds RetCode: 0 Status: OK