Package: BasicSTARRseq Version: 1.28.0 Command: chmod a+r BasicSTARRseq -R && F:\biocbuild\bbs-3.17-bioc\R\bin\R.exe CMD build --keep-empty-dirs --no-resave-data BasicSTARRseq StartedAt: 2023-10-15 17:28:40 -0400 (Sun, 15 Oct 2023) EndedAt: 2023-10-15 17:29:20 -0400 (Sun, 15 Oct 2023) EllapsedTime: 40.1 seconds RetCode: 0 Status: OK PackageFile: BasicSTARRseq_1.28.0.tar.gz PackageFileSize: 392.4 KiB