Package: BiFET Version: 1.20.0 Command: /Library/Frameworks/R.framework/Resources/bin/R CMD build --keep-empty-dirs --no-resave-data BiFET StartedAt: 2023-10-15 16:55:32 -0400 (Sun, 15 Oct 2023) EndedAt: 2023-10-15 16:57:47 -0400 (Sun, 15 Oct 2023) EllapsedTime: 135.0 seconds RetCode: 0 Status: OK PackageFile: BiFET_1.20.0.tar.gz PackageFileSize: 644.1 KiB