Package: BiFET Version: 1.20.0 Command: /Library/Frameworks/R.framework/Resources/bin/R CMD INSTALL BiFET StartedAt: 2023-10-15 15:11:22 -0400 (Sun, 15 Oct 2023) EndedAt: 2023-10-15 15:11:52 -0400 (Sun, 15 Oct 2023) EllapsedTime: 29.8 seconds RetCode: 0 Status: OK