Package: BioNERO Version: 1.8.7 Command: chmod a+r BioNERO -R && F:\biocbuild\bbs-3.17-bioc\R\bin\R.exe CMD build --keep-empty-dirs --no-resave-data BioNERO StartedAt: 2023-10-15 17:44:55 -0400 (Sun, 15 Oct 2023) EndedAt: 2023-10-15 17:50:07 -0400 (Sun, 15 Oct 2023) EllapsedTime: 312.8 seconds RetCode: 0 Status: OK PackageFile: BioNERO_1.8.7.tar.gz PackageFileSize: 3.697 MiB