Package: BioNERO Version: 1.8.7 Command: F:\biocbuild\bbs-3.17-bioc\R\bin\R.exe CMD check --no-multiarch --install=check:BioNERO.install-out.txt --library=F:\biocbuild\bbs-3.17-bioc\R\library --no-vignettes --timings BioNERO_1.8.7.tar.gz StartedAt: 2023-10-16 00:00:00 -0400 (Mon, 16 Oct 2023) EndedAt: 2023-10-16 00:07:04 -0400 (Mon, 16 Oct 2023) EllapsedTime: 423.6 seconds RetCode: 0 Status: OK CheckDir: BioNERO.Rcheck Warnings: 0