Package: BioNERO Version: 1.8.7 Command: F:\biocbuild\bbs-3.17-bioc\R\bin\R.exe CMD INSTALL BioNERO StartedAt: 2023-10-15 16:55:04 -0400 (Sun, 15 Oct 2023) EndedAt: 2023-10-15 16:55:46 -0400 (Sun, 15 Oct 2023) EllapsedTime: 42.0 seconds RetCode: 0 Status: OK