Package: BioTIP Version: 1.14.0 Command: /home/biocbuild/bbs-3.17-bioc/R/bin/R CMD build --keep-empty-dirs --no-resave-data BioTIP StartedAt: 2023-10-15 16:06:55 -0400 (Sun, 15 Oct 2023) EndedAt: 2023-10-15 16:08:27 -0400 (Sun, 15 Oct 2023) EllapsedTime: 91.8 seconds RetCode: 0 Status: OK PackageFile: BioTIP_1.14.0.tar.gz PackageFileSize: 8.783 MiB